BEGIN:VCALENDAR
VERSION:2.0
PRODID:spatie/icalendar-generator
DESCRIPTION:Events from SJVTTOInc
X-WR-CALDESC:Events from SJVTTOInc
REFRESH-INTERVAL;VALUE=DURATION:PT1440M
X-PUBLISHED-TTL:PT1440M
BEGIN:VTIMEZONE
TZID:America/Los_Angeles
BEGIN:STANDARD
DTSTART:20251102T020000Z
TZOFFSETFROM:-0700
TZOFFSETTO:-0800
END:STANDARD
BEGIN:DAYLIGHT
DTSTART:20260308T020000Z
TZOFFSETFROM:-0800
TZOFFSETTO:-0700
END:DAYLIGHT
END:VTIMEZONE
BEGIN:VTIMEZONE
TZID:UTC
BEGIN:STANDARD
DTSTART:20250727T143320Z
TZOFFSETFROM:+0000
TZOFFSETTO:+0000
END:STANDARD
END:VTIMEZONE
BEGIN:VEVENT
UID:50-86
DTSTAMP:20260423T143320Z
SUMMARY:Monthly club meeting
LOCATION:Denair clubhouse   Denair CA
ORGANIZER;CN=SJVToyTrain:MAILTO:jimcoll51@gmail.com
DTSTART;TZID=America/Los_Angeles:20260412T133000
DTEND;TZID=America/Los_Angeles:20260412T150000
X-ALT-DESC;FMTTYPE=TEXT/HTML:Monthly all member meeting at clubhouse in Den
 air. Doors open at 12:30pm.
CATEGORIES:General
URL;VALUE=URI:https://sjvttoinc.com/mc-events/monthly-club-meeting-8/
METHOD:PUBLISH
END:VEVENT
END:VCALENDAR